BEGIN:VCALENDAR
VERSION:2.0
PRODID:-//DC Georgia//Events//EN
CALSCALE:GREGORIAN
METHOD:PUBLISH
BEGIN:VTIMEZONE
TZID:America/New_York
BEGIN:STANDARD
DTSTART:19701101T020000
RRULE:FREQ=YEARLY;BYMONTH=11;BYDAY=1SU
TZOFFSETFROM:-0400
TZOFFSETTO:-0500
TZNAME:EST
END:STANDARD
BEGIN:DAYLIGHT
DTSTART:19700308T020000
RRULE:FREQ=YEARLY;BYMONTH=3;BYDAY=2SU
TZOFFSETFROM:-0500
TZOFFSETTO:-0400
TZNAME:EDT
END:DAYLIGHT
END:VTIMEZONE
BEGIN:VEVENT
UID:event-13@dcgeorgia.org
DTSTAMP:20260420T101724Z
DTSTART;TZID=America/New_York:20260425T100000
DURATION:PT1H
SUMMARY:When Wives Pray
DESCRIPTION:Wives this is a call to rise. Our prayers are powerful weapons 
 that can break chains\, silence storms\, restore marriages &amp\; secure t
 he future.
LOCATION:300 Pinnacle Way\, Norcross\, GA 30071
URL:https://dcgeorgia.org/events/when-wives-pray
END:VEVENT
END:VCALENDAR