BEGIN:VCALENDAR
VERSION:2.0
PRODID:-//DC Georgia//Events//EN
CALSCALE:GREGORIAN
METHOD:PUBLISH
BEGIN:VTIMEZONE
TZID:America/New_York
BEGIN:STANDARD
DTSTART:19701101T020000
RRULE:FREQ=YEARLY;BYMONTH=11;BYDAY=1SU
TZOFFSETFROM:-0400
TZOFFSETTO:-0500
TZNAME:EST
END:STANDARD
BEGIN:DAYLIGHT
DTSTART:19700308T020000
RRULE:FREQ=YEARLY;BYMONTH=3;BYDAY=2SU
TZOFFSETFROM:-0500
TZOFFSETTO:-0400
TZNAME:EDT
END:DAYLIGHT
END:VTIMEZONE
BEGIN:VEVENT
UID:event-1@dcgeorgia.org
DTSTAMP:20260420T102210Z
DTSTART;TZID=America/New_York:20260426T100000
DTEND;TZID=America/New_York:20260426T120000
RRULE:FREQ=WEEKLY;BYDAY=SU
SUMMARY:Sunday Service
DESCRIPTION:Sunday is the weekly gathering of Dominion City Church Georgia.
  We meet at 10 AM across all three of our metro Atlanta campuses — Norcr
 oss\, Marietta\, and Decatur — and we livestream the Norcross service on
  YouTube for anyone who can&#039\;t make it in person.If this is your firs
 t time thinking about visiting a church\, or your first time back in a whi
 le\, we want to make this easy on you. Here&#039\;s what Sunday at DC Geor
 gia actually looks like.What to expectDoors open before 10 AM at every cam
 pus. When you walk in\, someone on our welcome team will greet you\, help 
 you find a seat\, and point you to anything you need — coffee\, restroom
 s\, DC Kidz check-in. There&#039\;s no dress code. Come in whatever you&#0
 39\;d wear to meet a friend for brunch.The service centers on worship and 
 the Word. Our worship team leads us in singing\, we make space for prayer\
 , and Pastor Steve teaches a message from Scripture that&#039\;s practical
  — something you can carry into your week\, your relationships\, and you
 r walk with God. We take an offering during the service. If you&#039\;re v
 isiting\, there&#039\;s no pressure to give. That&#039\;s not what you&#03
 9\;re here for.We also love testimonies. You&#039\;ll often hear someone s
 hare what God has done in their life that week or that month. It&#039\;s o
 ne of the things that makes a DC Georgia Sunday feel like a family gatheri
 ng more than a performance.For your kidsDC Kidz is our children&#039\;s mi
 nistry for ages 1 through 12\, and it runs during the Sunday service at ev
 ery campus. Check-in opens at 9:45 AM. We use a secure check-in and check-
 out system\, our volunteers are background-checked\, and our team is train
 ed to work with kids who have allergies or special needs. Your kids will w
 orship\, hear Bible stories made for their age group\, and do hands-on act
 ivities with other kids — so you can be fully present in the main servic
 e.If you have a teen\, DC Youth runs for middle school and high school stu
 dents on Sundays as well.Every campus runs a full Sunday experience — wo
 rship\, teaching\, DC Kidz\, and a welcome team ready for you. Pick whiche
 ver one is closest to home.Planning your first visitIf you&#039\;ve never 
 been\, we&#039\;d love to know you&#039\;re coming. You can plan your visi
 t and we&#039\;ll have someone from our team reach out ahead of time to an
 swer any questions and help you know what to expect. Or just show up — w
 e&#039\;re ready for you either way.Can&#039\;t make it in?We livestream e
 very Sunday at 10 AM from our Norcross campus on YouTube at @DOMINIONCITYG
 EORGIA. If you&#039\;re traveling\, sick\, or just can&#039\;t get out the
  door\, join us online.We&#039\;re expecting you.
LOCATION:All Campuses
URL:https://dcgeorgia.org/events/sunday-service
END:VEVENT
END:VCALENDAR