BEGIN:VCALENDAR
VERSION:2.0
PRODID:-//DC Georgia//Events//EN
CALSCALE:GREGORIAN
METHOD:PUBLISH
BEGIN:VTIMEZONE
TZID:America/New_York
BEGIN:STANDARD
DTSTART:19701101T020000
RRULE:FREQ=YEARLY;BYMONTH=11;BYDAY=1SU
TZOFFSETFROM:-0400
TZOFFSETTO:-0500
TZNAME:EST
END:STANDARD
BEGIN:DAYLIGHT
DTSTART:19700308T020000
RRULE:FREQ=YEARLY;BYMONTH=3;BYDAY=2SU
TZOFFSETFROM:-0500
TZOFFSETTO:-0400
TZNAME:EDT
END:DAYLIGHT
END:VTIMEZONE
BEGIN:VEVENT
UID:event-10@dcgeorgia.org
DTSTAMP:20260422T103216Z
DTSTART;TZID=America/New_York:20260516T100000
DURATION:PT1H
RRULE:FREQ=MONTHLY;BYDAY=3SA
SUMMARY:Men's Fellowship Meetup 
DESCRIPTION:Join us for the Dominion City Men&#039\;s Fellowship — a recu
 rring gathering for men across metro Atlanta who want to grow in faith\, b
 uild real friendships\, and become the leaders God has called them to be.W
 hether you&#039\;re in Norcross\, Marietta\, Decatur\, or anywhere in the 
 greater Atlanta area\, this is a space designed for men in every season of
  life — single\, married\, fathers\, young professionals\, and seasoned 
 leaders. No matter where you are on your faith journey\, you belong here.W
 hat to ExpectEvery Men&#039\;s Fellowship is built around three things:Bro
 therhood. Life wasn&#039\;t meant to be done alone. You&#039\;ll meet men 
 who are walking through the same questions\, pressures\, and victories you
  are — and build friendships that go beyond Sunday mornings.Biblical Wis
 dom. Rooted in Scripture\, our conversations tackle the real stuff: purpos
 e\, leadership\, marriage\, fatherhood\, career\, finances\, and faith. Ex
 pect practical teaching you can apply Monday through Saturday.Encouragemen
 t &amp\; Growth. Whether you need a boost\, a breakthrough\, or a fresh pe
 rspective\, you&#039\;ll leave recharged and ready for what&#039\;s ahead.
 Who This Is ForMen looking for genuine Christian community in metro Atlant
 aHusbands and fathers seeking wisdom for leading their familiesYoung men n
 avigating career\, calling\, and purposeLongtime believers who want to go 
 deeperAnyone exploring faith and looking for a welcoming space to startWhy
  It MattersAt Dominion City Church Georgia\, we believe strong men build s
 trong families\, strong families build strong churches\, and strong church
 es transform cities. The Men&#039\;s Fellowship is where that begins — o
 ne conversation\, one connection\, one encounter with God at a time.✨ Gr
 ow. Recharge. Connect.
LOCATION:Multiple Locations
URL:https://dcgeorgia.org/events/mens-fellowship-meetup
END:VEVENT
END:VCALENDAR