BEGIN:VCALENDAR
VERSION:2.0
PRODID:-//DC Georgia//Events//EN
CALSCALE:GREGORIAN
METHOD:PUBLISH
BEGIN:VTIMEZONE
TZID:America/New_York
BEGIN:STANDARD
DTSTART:19701101T020000
RRULE:FREQ=YEARLY;BYMONTH=11;BYDAY=1SU
TZOFFSETFROM:-0400
TZOFFSETTO:-0500
TZNAME:EST
END:STANDARD
BEGIN:DAYLIGHT
DTSTART:19700308T020000
RRULE:FREQ=YEARLY;BYMONTH=3;BYDAY=2SU
TZOFFSETFROM:-0500
TZOFFSETTO:-0400
TZNAME:EDT
END:DAYLIGHT
END:VTIMEZONE
BEGIN:VEVENT
UID:event-2@dcgeorgia.org
DTSTAMP:20260420T095432Z
DTSTART;TZID=America/New_York:20260424T190000
DTEND;TZID=America/New_York:20260424T210000
RRULE:FREQ=WEEKLY;BYDAY=FR
SUMMARY:Friday Night Service
DESCRIPTION:Faith Friday is the midweek gathering where Dominion City Churc
 h Georgia comes together to pray\, worship\, and sit under the Word. It ha
 ppens every Friday night at our Norcross campus\, and members from our Mar
 ietta and Decatur campuses join us there in person. If you can&#039\;t mak
 e it in\, we livestream the whole service online — so wherever you are i
 n metro Atlanta\, or beyond\, you&#039\;ve got a seat.It&#039\;s a simple 
 service with a clear rhythm: we open in prayer\, move into worship\, hear 
 the Word taught by Pastor Steve\, receive the offering\, and close togethe
 r. Two hours\, start to finish. No gimmicks\, no fluff — just the things
  that actually grow faith.Why we gather on FridaysFaith Friday exists for 
 one reason: to build faith. That&#039\;s true for the person who&#039\;s b
 een walking with God for thirty years and the person who just started aski
 ng questions last week. Everyone needs their faith strengthened\, and Frid
 ay night is where we do that together\, mid-week\, before the weekend hits
 .Sunday and Friday are both about the Word\, but they carry a different fo
 cus. Sunday sets the tone for the week ahead. Friday is where we come back
  for more — a different angle\, a different emphasis\, a different part 
 of our walk with God getting the attention it needs. Pastor Steve teaches 
 on Fridays\, and the format varies. Some seasons we walk through a book of
  the Bible together. Other weeks it&#039\;s a topical series. Sometimes it
 &#039\;s a standalone message that meets the moment we&#039\;re in. What s
 tays the same is that you&#039\;ll leave with something you can actually a
 pply to your week\, your family\, your work\, and your walk with God.We al
 so take time to pray. Not a rushed opening prayer — real\, unhurried pra
 yer. It&#039\;s one of the things that shapes the atmosphere of Faith Frid
 ay and part of what makes the service feel different from a typical weekni
 ght church meeting.What to expect when you comeDoors open a few minutes be
 fore 7 PM. You&#039\;ll walk into a room set up for worship — warm\, wel
 coming\, no dress code. We start on time with prayer\, so plan to arrive a
  little early if you want to settle in before the service begins.Worship l
 eads us into the teaching\, which is the heart of the evening. Bring a not
 ebook\, your Bible\, or both. Pastor Steve teaches in a way that&#039\;s p
 ractical and rooted in Scripture\, so whether this is your first time in c
 hurch or you grew up in one\, you&#039\;ll be able to follow along and tak
 e something real home.We receive the offering near the end of the service.
  If you&#039\;re visiting\, there&#039\;s no expectation for you to give. 
 Giving at DC Georgia is an act of worship\, not an entry fee.We close by 9
  PM so you can get home\, rest\, and be ready for the weekend.Who Faith Fr
 iday is forAnyone. If you&#039\;re a longtime member looking to go deeper\
 , you&#039\;ll find depth here. If you&#039\;ve been visiting our Sunday s
 ervices and you&#039\;re ready to see what a midweek gathering is like\, c
 ome. If you&#039\;ve been exploring faith\, questioning\, or quietly wonde
 ring what it means to know God for yourself — this is a good night to sh
 ow up. Come as you are. We&#039\;re not expecting a polished version of yo
 u\; we&#039\;re expecting you.
LOCATION:300 Pinnacle Way\, Norcross\, GA 30071
URL:https://www.youtube.com/@DominionCityGeorgia/streams
END:VEVENT
END:VCALENDAR