BEGIN:VCALENDAR
VERSION:2.0
PRODID:-//DC Georgia//Events//EN
CALSCALE:GREGORIAN
METHOD:PUBLISH
BEGIN:VTIMEZONE
TZID:America/New_York
BEGIN:STANDARD
DTSTART:19701101T020000
RRULE:FREQ=YEARLY;BYMONTH=11;BYDAY=1SU
TZOFFSETFROM:-0400
TZOFFSETTO:-0500
TZNAME:EST
END:STANDARD
BEGIN:DAYLIGHT
DTSTART:19700308T020000
RRULE:FREQ=YEARLY;BYMONTH=3;BYDAY=2SU
TZOFFSETFROM:-0500
TZOFFSETTO:-0400
TZNAME:EDT
END:DAYLIGHT
END:VTIMEZONE
BEGIN:VEVENT
UID:event-12@dcgeorgia.org
DTSTAMP:20260420T102653Z
DTSTART;VALUE=DATE:20260723
DTEND;VALUE=DATE:20260727
SUMMARY:Camp Meeting 2026
DESCRIPTION:Camp Meeting 2026 is coming to Houston â€” and Dominion City Ch
 urch Georgia is going with them. Join believers from across North America 
 for four transformative days of worship\, the Word\, and divine encounters
  hosted by Dominion City North America at the Fertitta Center\, University
  of Houston.What if everything you&#039\;ve been praying for â€” clarity\,
  financial breakthrough\, healing\, restoration â€” was waiting for you at
  Camp Meeting? If you&#039\;ve ever longed for more\, felt the pull of des
 tiny\, or hungered for a genuine encounter with God\, this is your moment.
 What to ExpectFour days of powerful ministry built around the things that 
 matter most:Worship. World-class worship experiences led by anointed minis
 ters including Nathaniel Bassey (of the global #HallelujahChallenge moveme
 nt) and Anthony Kani\, known for Spirit-led spontaneous worship that has s
 tirred hunger for God in believers worldwide.The Word. Transformative teac
 hing from a lineup of globally respected ministers:Rev. David Ogbueli â€” 
 Founder of New Covenant Family Ministries and Senior Pastor of Dominion Ci
 ty InternationalDr. Randy Mitchell â€” International missions director who
  has equipped leaders across 60+ nationsAndres Bisonni â€” Renowned evange
 list known for impactful Gospel ministryApostle Arome Osayi â€” Revivalist
  and founder of Remnant Christian NetworkDr. Charles Ndifon â€” Healing ev
 angelist who has ministered in over 93 nationsDivine Encounters. Prayer\, 
 altar ministry\, and moments where God meets people right where they are â
 €” for healing\, breakthrough\, and restoration.Family-Friendly. Dedicated
  children&#039\;s ministry (DC Kidz) available throughout the event\, so p
 arents can fully engage while their kids experience age-appropriate minist
 ry.When &amp\; WhereDates: July 23â€“26\, 2026Venue: Fertitta Center\, Uni
 versity of HoustonAddress: 3422 Cullen Blvd\, Houston\, TX 77204Seating: 5
 \,000+Sessions: 9:00 AM (morning) and 6:00 PM (evening) dailyDoors Open: 5
 :30 PM for evening sessionsAccessibility: Fully ADA accessibleParking: Lot
 s and garages open two hours before each sessionWho Should AttendAnyone se
 eking a spiritual breakthrough. Whether you&#039\;re exploring faith for t
 he first time or you&#039\;ve walked with God for years\, Camp Meeting is 
 a space where God moves and lives are changed. Past attendees describe it 
 as life-changing â€” and we believe 2026 will go even further.Traveling Fr
 om Georgia?DC Georgia members planning to attend together â€” keep an eye 
 out for group travel details\, recommended hotels\, and coordinated logist
 ics as we get closer to July. Whether you&#039\;re driving from Norcross\,
  Marietta\, or Decatur\, or flying in\, we want to make it easy for you to
  be there.RegistrationCamp Meeting 2026 is completely free â€” but registr
 ation is required to guarantee entry and receive event updates. Secure you
 r spot now.
LOCATION:Fertitta Center\, University of Houston\, 3422 Cullen Blvd\, Houst
 on\, TX 77204
URL:https://dcgeorgia.org/events/camp-meeting-2026
END:VEVENT
END:VCALENDAR