BEGIN:VCALENDAR
VERSION:2.0
PRODID:-//DC Georgia//Events//EN
CALSCALE:GREGORIAN
METHOD:PUBLISH
BEGIN:VTIMEZONE
TZID:America/New_York
BEGIN:STANDARD
DTSTART:19701101T020000
RRULE:FREQ=YEARLY;BYMONTH=11;BYDAY=1SU
TZOFFSETFROM:-0400
TZOFFSETTO:-0500
TZNAME:EST
END:STANDARD
BEGIN:DAYLIGHT
DTSTART:19700308T020000
RRULE:FREQ=YEARLY;BYMONTH=3;BYDAY=2SU
TZOFFSETFROM:-0500
TZOFFSETTO:-0400
TZNAME:EDT
END:DAYLIGHT
END:VTIMEZONE
BEGIN:VEVENT
UID:event-14@dcgeorgia.org
DTSTAMP:20260420T024341Z
DTSTART;TZID=America/New_York:20260420T060000
DTEND;TZID=America/New_York:20260420T070000
RRULE:FREQ=DAILY
SUMMARY:Arise & Shine
DESCRIPTION:Arise &amp\; Shine is a daily 6:00 AM ET prayer call that has t
 ransformed thousands of lives since its inception. Led by Dr. Una\, it is 
 a place of prophetic prayers\, powerful intercession\, and life-changing e
 ncounters with God&#039\;s Word — a Spirit-led experience that sets the 
 tone for your entire day.Every morning\, believers from across the nation 
 and around the world gather to seek God&#039\;s face\, receive prophetic d
 eclarations\, and start their day anchored in faith. Whether you are carry
 ing a burden\, contending for a breakthrough\, or simply hungry to grow in
  prayer\, you&#039\;ll find a community standing with you.Join us live on 
 Zoom\, YouTube\, or Facebook — wherever is easiest for you. Set your ala
 rm\, grab your Bible\, and come expectant. Your morning encounter with God
  is waiting.
LOCATION:Online
URL:https://dcgeorgia.org/events/arise-shine
END:VEVENT
END:VCALENDAR